BEGIN:VCALENDAR
VERSION:2.0
PRODID:-//wp-events-plugin.com//7.2.3.1//EN
TZID:Europe/Budapest
X-WR-TIMEZONE:Europe/Budapest
BEGIN:VEVENT
UID:28@hernad.hu
DTSTART;TZID=Europe/Budapest:20260424T080000
DTEND;TZID=Europe/Budapest:20260424T120000
DTSTAMP:20260420T113611Z
URL:https://www.hernad.hu/events/lelki-nap/
SUMMARY:Lelki nap
DESCRIPTION:
LOCATION:Hernádi Alapszolgáltatási Központ\, 2376 Hernád\, Fő u. 149.
 \, hernad\, Magyarország
X-APPLE-STRUCTURED-LOCATION;VALUE=URI;X-ADDRESS=2376 Hernád\, Fő u. 149.\
 , hernad\, Magyarország;X-APPLE-RADIUS=100;X-TITLE=Hernádi Alapszolgált
 atási Központ:geo:0,0
END:VEVENT
BEGIN:VTIMEZONE
TZID:Europe/Budapest
X-LIC-LOCATION:Europe/Budapest
BEGIN:DAYLIGHT
DTSTART:20260329T030000
TZOFFSETFROM:+0100
TZOFFSETTO:+0200
TZNAME:CEST
END:DAYLIGHT
END:VTIMEZONE
END:VCALENDAR