BEGIN:VCALENDAR
VERSION:2.0
PRODID:-//wp-events-plugin.com//7.2.3.1//EN
TZID:Europe/Budapest
X-WR-TIMEZONE:Europe/Budapest
BEGIN:VEVENT
UID:30@hernad.hu
DTSTART;TZID=Europe/Budapest:20260427T080000
DTEND;TZID=Europe/Budapest:20260427T120000
DTSTAMP:20260420T114210Z
URL:https://www.hernad.hu/events/bolcsodei-beiratkozas/
SUMMARY:Bölcsődei beiratkozás
DESCRIPTION:
LOCATION:Csicsergő Bölcsőde\, Erdő u. 2.\, Hernád\, 2376\, Magyarorsz
 ág
GEO:47.160376;19.416903
X-APPLE-STRUCTURED-LOCATION;VALUE=URI;X-ADDRESS=Erdő u. 2.\, Hernád\, 237
 6\, Magyarország;X-APPLE-RADIUS=100;X-TITLE=Csicsergő Bölcsőde:geo:47.
 160376,19.416903
END:VEVENT
BEGIN:VTIMEZONE
TZID:Europe/Budapest
X-LIC-LOCATION:Europe/Budapest
BEGIN:DAYLIGHT
DTSTART:20260329T030000
TZOFFSETFROM:+0100
TZOFFSETTO:+0200
TZNAME:CEST
END:DAYLIGHT
END:VTIMEZONE
END:VCALENDAR