BEGIN:VCALENDAR
VERSION:2.0
PRODID:-//wp-events-plugin.com//7.2.3.1//EN
TZID:Europe/Budapest
X-WR-TIMEZONE:Europe/Budapest
BEGIN:VEVENT
UID:26@hernad.hu
DTSTART;TZID=Europe/Budapest:20260423T080000
DTEND;TZID=Europe/Budapest:20260423T180000
DTSTAMP:20260420T112933Z
URL:https://www.hernad.hu/events/altalanos-iskolai-beiratkozas/
SUMMARY:Általános iskolai beiratkozás
DESCRIPTION:https://www.hernadiskola.hu/hirek/483-beiratkozasi-informaciok-
 2026-2027?fbclid=IwY2xjawRS7ONleHRuA2FlbQIxMQBzcnRjBmFwcF9pZBAyMjIwMzkxNzg
 4MjAwODkyAAEeFbLhCdnzz-_cY-wWqyxu1Gzr9z3tsL3lcTKVUOJP5wlh_NW1Xa3a3n4Cxs4_a
 em_KD9ijYt-qYCrJ-ucVbr7uQ
LOCATION:Hernádi Általános Iskola\, Hernád Fő u. 150.\, Hernád\, 2376
 \, Magyarország
GEO:47.169783;19.417573
X-APPLE-STRUCTURED-LOCATION;VALUE=URI;X-ADDRESS=Hernád Fő u. 150.\, Hern
 ád\, 2376\, Magyarország;X-APPLE-RADIUS=100;X-TITLE=Hernádi Általános
  Iskola:geo:47.169783,19.417573
END:VEVENT
BEGIN:VTIMEZONE
TZID:Europe/Budapest
X-LIC-LOCATION:Europe/Budapest
BEGIN:DAYLIGHT
DTSTART:20260329T030000
TZOFFSETFROM:+0100
TZOFFSETTO:+0200
TZNAME:CEST
END:DAYLIGHT
END:VTIMEZONE
END:VCALENDAR